BEGIN:VCALENDAR
VERSION:2.0
PRODID:-//Ellerton &amp; Aughton Parish Council - ECPv6.15.18//NONSGML v1.0//EN
CALSCALE:GREGORIAN
METHOD:PUBLISH
X-WR-CALNAME:Ellerton &amp; Aughton Parish Council
X-ORIGINAL-URL:https://www.ellertonandaughtonpc.co.uk
X-WR-CALDESC:Events for Ellerton &amp; Aughton Parish Council
REFRESH-INTERVAL;VALUE=DURATION:PT1H
X-Robots-Tag:noindex
X-PUBLISHED-TTL:PT1H
BEGIN:VTIMEZONE
TZID:Europe/London
BEGIN:DAYLIGHT
TZOFFSETFROM:+0000
TZOFFSETTO:+0100
TZNAME:BST
DTSTART:20200329T010000
END:DAYLIGHT
BEGIN:STANDARD
TZOFFSETFROM:+0100
TZOFFSETTO:+0000
TZNAME:GMT
DTSTART:20201025T010000
END:STANDARD
BEGIN:DAYLIGHT
TZOFFSETFROM:+0000
TZOFFSETTO:+0100
TZNAME:BST
DTSTART:20210328T010000
END:DAYLIGHT
BEGIN:STANDARD
TZOFFSETFROM:+0100
TZOFFSETTO:+0000
TZNAME:GMT
DTSTART:20211031T010000
END:STANDARD
BEGIN:DAYLIGHT
TZOFFSETFROM:+0000
TZOFFSETTO:+0100
TZNAME:BST
DTSTART:20220327T010000
END:DAYLIGHT
BEGIN:STANDARD
TZOFFSETFROM:+0100
TZOFFSETTO:+0000
TZNAME:GMT
DTSTART:20221030T010000
END:STANDARD
END:VTIMEZONE
BEGIN:VTIMEZONE
TZID:UTC
BEGIN:STANDARD
TZOFFSETFROM:+0000
TZOFFSETTO:+0000
TZNAME:UTC
DTSTART:20170101T000000
END:STANDARD
END:VTIMEZONE
BEGIN:VEVENT
DTSTART;TZID=Europe/London:20210928T193000
DTEND;TZID=Europe/London:20210928T213000
DTSTAMP:20260420T013010
CREATED:20210729T213127Z
LAST-MODIFIED:20210812T090412Z
UID:9253-1632857400-1632864600@www.ellertonandaughtonpc.co.uk
SUMMARY:PC MEETING
DESCRIPTION:
URL:https://www.ellertonandaughtonpc.co.uk/event/pc-meeting
END:VEVENT
BEGIN:VEVENT
DTSTART;VALUE=DATE:20210808
DTEND;VALUE=DATE:20210809
DTSTAMP:20260420T013010
CREATED:20210729T201239Z
LAST-MODIFIED:20210729T201239Z
UID:9232-1628380800-1628467199@www.ellertonandaughtonpc.co.uk
SUMMARY:Classic Car Show
DESCRIPTION:
URL:https://www.ellertonandaughtonpc.co.uk/event/classic-car-show
END:VEVENT
BEGIN:VEVENT
DTSTART;TZID=UTC:20180327T200000
DTEND;TZID=UTC:20180327T200000
DTSTAMP:20260420T013010
CREATED:20171223T160443Z
LAST-MODIFIED:20171223T160443Z
UID:408-1522180800-1522180800@www.ellertonandaughtonpc.co.uk
SUMMARY:Parish Council Meeting
DESCRIPTION:This meeting will be held at Ellerton Village Hall. Members of the public are welcome to attend.
URL:https://www.ellertonandaughtonpc.co.uk/event/parish-council-meeting-2
LOCATION:Ellerton Village Hall\, Main St\,\, Ellerton\, YO42 4PB\, United Kingdom
CATEGORIES:Parish Council Meetings
ORGANIZER;CN="Ellerton & Aughton Parish Council":MAILTO:ellertonparishclerk@gmail.com
END:VEVENT
BEGIN:VEVENT
DTSTART;TZID=UTC:20180130T200000
DTEND;TZID=UTC:20180130T200000
DTSTAMP:20260420T013010
CREATED:20171223T160424Z
LAST-MODIFIED:20171223T160424Z
UID:406-1517342400-1517342400@www.ellertonandaughtonpc.co.uk
SUMMARY:Parish Council Meeting
DESCRIPTION:This meeting will be held at Ellerton Village Hall. Members of the public are welcome to attend.
URL:https://www.ellertonandaughtonpc.co.uk/event/parish-council-meeting
LOCATION:Ellerton Village Hall\, Main St\,\, Ellerton\, YO42 4PB\, United Kingdom
CATEGORIES:Parish Council Meetings
ORGANIZER;CN="Ellerton & Aughton Parish Council":MAILTO:ellertonparishclerk@gmail.com
END:VEVENT
END:VCALENDAR